BEGIN:VCALENDAR
VERSION:2.0
PRODID:-//Sacred Heart School - ECPv5.8.1//NONSGML v1.0//EN
CALSCALE:GREGORIAN
METHOD:PUBLISH
X-WR-CALNAME:Sacred Heart School
X-ORIGINAL-URL:https://www.gogremlins.com
X-WR-CALDESC:Events for Sacred Heart School
BEGIN:VTIMEZONE
TZID:America/Chicago
BEGIN:DAYLIGHT
TZOFFSETFROM:-0600
TZOFFSETTO:-0500
TZNAME:CDT
DTSTART:20190310T080000
END:DAYLIGHT
BEGIN:STANDARD
TZOFFSETFROM:-0500
TZOFFSETTO:-0600
TZNAME:CST
DTSTART:20191103T070000
END:STANDARD
END:VTIMEZONE
BEGIN:VEVENT
DTSTART;VALUE=DATE:20190215
DTEND;VALUE=DATE:20190216
DTSTAMP:20260422T110810
CREATED:20190109T162521Z
LAST-MODIFIED:20190215T120442Z
UID:20518-1550188800-1550275199@www.gogremlins.com
SUMMARY:Paid Dress UP Day for Zach Parsons
DESCRIPTION:Dress UP Day! \nFriday\, February 15th\, we remember and honor the life of Zach Parsons with a Dress UP Day. Zach\, a Sacred Heart junior at the time of his death\, held high standards and goals in every area of his life\, from how he treated others\, to how he chose to dress. “You look good\, you do good\,” he liked to say. Zach treated everyone with respect and kindness. \n  \nOn this anniversary\, we ask that students not only dress up\, but stretch beyond their comfort zones to lift others up in respect and kindness. ALL proceeds from this Dress UP Day will be matched by the Parsons Family (up to $1000) AND an anonymous donor\, to benefit Sacred Heart’s Fine Arts Program—that’s up to $3\,000 for our Fine Arts program\, so PLEASE give and act generously\, in memory of Zach. \n  \nNo jeans please.
URL:https://www.gogremlins.com/event/paid-dress-up-day-for-zach-parsons/
LOCATION:MO
CATEGORIES:Main
END:VEVENT
END:VCALENDAR