BEGIN:VCALENDAR
VERSION:2.0
PRODID:-//Sacred Heart School - ECPv5.8.1//NONSGML v1.0//EN
CALSCALE:GREGORIAN
METHOD:PUBLISH
X-WR-CALNAME:Sacred Heart School
X-ORIGINAL-URL:https://www.gogremlins.com
X-WR-CALDESC:Events for Sacred Heart School
BEGIN:VTIMEZONE
TZID:America/Chicago
BEGIN:DAYLIGHT
TZOFFSETFROM:-0600
TZOFFSETTO:-0500
TZNAME:CDT
DTSTART:20190310T080000
END:DAYLIGHT
BEGIN:STANDARD
TZOFFSETFROM:-0500
TZOFFSETTO:-0600
TZNAME:CST
DTSTART:20191103T070000
END:STANDARD
END:VTIMEZONE
BEGIN:VEVENT
DTSTART;VALUE=DATE:20190104
DTEND;VALUE=DATE:20190105
DTSTAMP:20260421T165327
CREATED:20180829T152536Z
LAST-MODIFIED:20190102T181435Z
UID:13995-1546560000-1546646399@www.gogremlins.com
SUMMARY:No school Mass
DESCRIPTION:
URL:https://www.gogremlins.com/event/no-school-mass/
CATEGORIES:Faith Life,Main
END:VEVENT
END:VCALENDAR