BEGIN:VCALENDAR
VERSION:2.0
PRODID:-//Sacred Heart School - ECPv5.8.1//NONSGML v1.0//EN
CALSCALE:GREGORIAN
METHOD:PUBLISH
X-WR-CALNAME:Sacred Heart School
X-ORIGINAL-URL:https://www.gogremlins.com
X-WR-CALDESC:Events for Sacred Heart School
BEGIN:VTIMEZONE
TZID:America/Chicago
BEGIN:DAYLIGHT
TZOFFSETFROM:-0600
TZOFFSETTO:-0500
TZNAME:CDT
DTSTART:20200308T080000
END:DAYLIGHT
BEGIN:STANDARD
TZOFFSETFROM:-0500
TZOFFSETTO:-0600
TZNAME:CST
DTSTART:20201101T070000
END:STANDARD
END:VTIMEZONE
BEGIN:VEVENT
DTSTART;VALUE=DATE:20200414
DTEND;VALUE=DATE:20200418
DTSTAMP:20260423T034138
CREATED:20200331T162354Z
LAST-MODIFIED:20200417T162237Z
UID:35294-1586822400-1587167999@www.gogremlins.com
SUMMARY:No On-Campus Classes/eLearning and other options provided
DESCRIPTION:Tuesday\, March 31\, 2020 \n  \nGreetings SHS Families! \n  \nIn what is no surprise to any of us\, it looks like our Virtual Learning Project is going to be extended for a few weeks.  As of this writing\, the earliest projected return date for Pettis County students is Monday\, April 20th.  School leaders will meet with Pettis County Health Center officials again on Monday\, April 13th to reassess the situation.  Let’s keep our fingers crossed!
URL:https://www.gogremlins.com/event/no-on-campus-classes-elearning-and-other-options-provided-15/
CATEGORIES:Main
END:VEVENT
END:VCALENDAR