BEGIN:VCALENDAR
VERSION:2.0
PRODID:-//Sacred Heart School - ECPv5.8.1//NONSGML v1.0//EN
CALSCALE:GREGORIAN
METHOD:PUBLISH
X-WR-CALNAME:Sacred Heart School
X-ORIGINAL-URL:https://www.gogremlins.com
X-WR-CALDESC:Events for Sacred Heart School
BEGIN:VTIMEZONE
TZID:America/Chicago
BEGIN:DAYLIGHT
TZOFFSETFROM:-0600
TZOFFSETTO:-0500
TZNAME:CDT
DTSTART:20200308T080000
END:DAYLIGHT
BEGIN:STANDARD
TZOFFSETFROM:-0500
TZOFFSETTO:-0600
TZNAME:CST
DTSTART:20201101T070000
END:STANDARD
END:VTIMEZONE
BEGIN:VEVENT
DTSTART;TZID=America/Chicago:20201204T141500
DTEND;TZID=America/Chicago:20201204T144500
DTSTAMP:20260424T145613
CREATED:20201119T133858Z
LAST-MODIFIED:20201204T125812Z
UID:48438-1607091300-1607093100@www.gogremlins.com
SUMMARY:NHS and NJHS Induction Ceremony for 2019-2020
DESCRIPTION:Congratulations to our candidates from the previous year\, 2019-2020. Your induction will be held on Friday\, December 4\, at 2:15 P.M. in Sacred Heart Church.  \n \nDue to our Covid guidelines we are only permitted to allow immediate family to join in the induction ceremony. We will be asking that everyone participate in social distancing through the ceremony. \n \nThere will be a small reception for the inductees only\, following the induction ceremony. \n \nWe look forward to working with you. Again\, congratulations!
URL:https://www.gogremlins.com/event/nhs-and-njhs-induction-ceremony-for-2019-2020/
CATEGORIES:Main
ORGANIZER;CN="Sacred%20Heart%20School%20Calendar":MAILTO:gogremlins.com_a3j4m3njtec9e6sauf99rsoo00@group.calendar.google.com
END:VEVENT
END:VCALENDAR