BEGIN:VCALENDAR
VERSION:2.0
PRODID:-//Sacred Heart School - ECPv5.8.1//NONSGML v1.0//EN
CALSCALE:GREGORIAN
METHOD:PUBLISH
X-WR-CALNAME:Sacred Heart School
X-ORIGINAL-URL:https://www.gogremlins.com
X-WR-CALDESC:Events for Sacred Heart School
BEGIN:VTIMEZONE
TZID:America/Chicago
BEGIN:DAYLIGHT
TZOFFSETFROM:-0600
TZOFFSETTO:-0500
TZNAME:CDT
DTSTART:20230312T080000
END:DAYLIGHT
BEGIN:STANDARD
TZOFFSETFROM:-0500
TZOFFSETTO:-0600
TZNAME:CST
DTSTART:20231105T070000
END:STANDARD
END:VTIMEZONE
BEGIN:VEVENT
DTSTART;VALUE=DATE:20230307
DTEND;VALUE=DATE:20230308
DTSTAMP:20260423T034558
CREATED:20230306T193852Z
LAST-MODIFIED:20230307T195355Z
UID:79944-1678147200-1678233599@www.gogremlins.com
SUMMARY:NCYC Pizza Pre-Order Deadline
DESCRIPTION:Help us raise funds to help cover the cost of the 2023 NCYC Trip. Let us help you take care of dinner for one night this week\, Thursday\, March 9th. Order as many large pepperoni pizzas as you need to feed your family.  Pizzas are $12 each. Order forms\, along with payment (cash and check ONLY)\, are due to the school office by the end of day on Tuesday\, March 7th. Make checks payable to Sacred Heart School. Order Form. \nAll pizzas MUST be picked up between 2:30-3:15pm in the Commons on Thursday\, March 9.
URL:https://www.gogremlins.com/event/ncyc-pizza-pre-order-deadline/
CATEGORIES:Main
END:VEVENT
END:VCALENDAR