BEGIN:VCALENDAR
VERSION:2.0
PRODID:-//Sacred Heart School - ECPv5.8.1//NONSGML v1.0//EN
CALSCALE:GREGORIAN
METHOD:PUBLISH
X-WR-CALNAME:Sacred Heart School
X-ORIGINAL-URL:https://www.gogremlins.com
X-WR-CALDESC:Events for Sacred Heart School
BEGIN:VTIMEZONE
TZID:UTC
BEGIN:STANDARD
TZOFFSETFROM:+0000
TZOFFSETTO:+0000
TZNAME:UTC
DTSTART:20180101T000000
END:STANDARD
END:VTIMEZONE
BEGIN:VEVENT
DTSTART;VALUE=DATE:20180728
DTEND;VALUE=DATE:20180806
DTSTAMP:20260421T224244
CREATED:20180314T011241Z
LAST-MODIFIED:20180314T011241Z
UID:11768-1532736000-1533513599@www.gogremlins.com
SUMMARY:MSHSAA Athletic DEAD Period for SH
DESCRIPTION:The dead period is a “no school activities time”; no open gyms\, competitions\, practices\, conditioning\, weight training; no activity-related functions or fundraisers\, camps or clinics at school facilities or sponsored elsewhere by the school; no coaches/directors or students may have planned contact other than casual\, normal community\, non-activity contact. \n  \nFor additional information or questions please contact Coach David Fall – dfall@gogremlins.com
URL:https://www.gogremlins.com/event/mshsaa-athletic-dead-period-sh/
CATEGORIES:Main,Sports
ORGANIZER;CN="Mr.%20David%20Fall":MAILTO:dfall@gogremlins.com
END:VEVENT
END:VCALENDAR