BEGIN:VCALENDAR
VERSION:2.0
PRODID:-//Sacred Heart School - ECPv5.8.1//NONSGML v1.0//EN
CALSCALE:GREGORIAN
METHOD:PUBLISH
X-WR-CALNAME:Sacred Heart School
X-ORIGINAL-URL:https://www.gogremlins.com
X-WR-CALDESC:Events for Sacred Heart School
BEGIN:VTIMEZONE
TZID:America/Chicago
BEGIN:DAYLIGHT
TZOFFSETFROM:-0600
TZOFFSETTO:-0500
TZNAME:CDT
DTSTART:20260308T080000
END:DAYLIGHT
BEGIN:STANDARD
TZOFFSETFROM:-0500
TZOFFSETTO:-0600
TZNAME:CST
DTSTART:20261101T070000
END:STANDARD
END:VTIMEZONE
BEGIN:VEVENT
DTSTART;TZID=America/Chicago:20260303T083000
DTEND;TZID=America/Chicago:20260303T093000
DTSTAMP:20260425T154242
CREATED:20250801T150052Z
LAST-MODIFIED:20260302T172431Z
UID:108513-1772526600-1772530200@www.gogremlins.com
SUMMARY:Mass (Grades K-5) Baldwin
DESCRIPTION:Tuesday\, March 3\, K-5 Mass. Second week of Lent; Readings: Isaiah 10: 16-20; Matthew 23: 1-12.  \n4th (Baldwin)
URL:https://www.gogremlins.com/event/mass-grades-k-5-baldwin-3/
CATEGORIES:Faith Life
END:VEVENT
END:VCALENDAR