BEGIN:VCALENDAR
VERSION:2.0
PRODID:-//Sacred Heart School - ECPv5.8.1//NONSGML v1.0//EN
CALSCALE:GREGORIAN
METHOD:PUBLISH
X-WR-CALNAME:Sacred Heart School
X-ORIGINAL-URL:https://www.gogremlins.com
X-WR-CALDESC:Events for Sacred Heart School
BEGIN:VTIMEZONE
TZID:America/Chicago
BEGIN:DAYLIGHT
TZOFFSETFROM:-0600
TZOFFSETTO:-0500
TZNAME:CDT
DTSTART:20250309T080000
END:DAYLIGHT
BEGIN:STANDARD
TZOFFSETFROM:-0500
TZOFFSETTO:-0600
TZNAME:CST
DTSTART:20251102T070000
END:STANDARD
END:VTIMEZONE
BEGIN:VEVENT
DTSTART;TZID=America/Chicago:20251202T083000
DTEND;TZID=America/Chicago:20251202T093000
DTSTAMP:20260423T102743
CREATED:20250729T135826Z
LAST-MODIFIED:20251202T095804Z
UID:108391-1764664200-1764667800@www.gogremlins.com
SUMMARY:Mass (Grades K-5) Baldwin
DESCRIPTION:Tuesday\,December 2\, K-5 Mass. Advent Weekday; Readings: Isaiah 11: 1-10; Luke 10:21-24. 4th (Baldwin) \n \n 
URL:https://www.gogremlins.com/event/mass-grades-k-5-baldwin-2/
CATEGORIES:Faith Life
END:VEVENT
END:VCALENDAR