BEGIN:VCALENDAR
VERSION:2.0
PRODID:-//Sacred Heart School - ECPv5.8.1//NONSGML v1.0//EN
CALSCALE:GREGORIAN
METHOD:PUBLISH
X-WR-CALNAME:Sacred Heart School
X-ORIGINAL-URL:https://www.gogremlins.com
X-WR-CALDESC:Events for Sacred Heart School
BEGIN:VTIMEZONE
TZID:America/Chicago
BEGIN:DAYLIGHT
TZOFFSETFROM:-0600
TZOFFSETTO:-0500
TZNAME:CDT
DTSTART:20240310T080000
END:DAYLIGHT
BEGIN:STANDARD
TZOFFSETFROM:-0500
TZOFFSETTO:-0600
TZNAME:CST
DTSTART:20241103T070000
END:STANDARD
END:VTIMEZONE
BEGIN:VEVENT
DTSTART;TZID=America/Chicago:20241114T083000
DTEND;TZID=America/Chicago:20241114T093000
DTSTAMP:20260424T002734
CREATED:20240625T224734Z
LAST-MODIFIED:20241114T145226Z
UID:95498-1731573000-1731576600@www.gogremlins.com
SUMMARY:Mass (Grades 6-12) Manning
DESCRIPTION:Thursday\, November 14\, 6-12 Mass. Weekday in Ordinary Time. Readings: Phlm 7-20; Lk 17: 20-25. Include a petition for Vocations; it is Vocation Awareness Week.  \nLit. Mus. (Manning Leads)
URL:https://www.gogremlins.com/event/mass-grades-6-12-9/
CATEGORIES:Faith Life
END:VEVENT
END:VCALENDAR