BEGIN:VCALENDAR
VERSION:2.0
PRODID:-//Sacred Heart School - ECPv5.8.1//NONSGML v1.0//EN
CALSCALE:GREGORIAN
METHOD:PUBLISH
X-WR-CALNAME:Sacred Heart School
X-ORIGINAL-URL:https://www.gogremlins.com
X-WR-CALDESC:Events for Sacred Heart School
BEGIN:VTIMEZONE
TZID:America/Chicago
BEGIN:DAYLIGHT
TZOFFSETFROM:-0600
TZOFFSETTO:-0500
TZNAME:CDT
DTSTART:20240310T080000
END:DAYLIGHT
BEGIN:STANDARD
TZOFFSETFROM:-0500
TZOFFSETTO:-0600
TZNAME:CST
DTSTART:20241103T070000
END:STANDARD
END:VTIMEZONE
BEGIN:VEVENT
DTSTART;TZID=America/Chicago:20240827T083000
DTEND;TZID=America/Chicago:20240827T093000
DTSTAMP:20260424T032905
CREATED:20240621T211626Z
LAST-MODIFIED:20240826T211529Z
UID:95067-1724747400-1724751000@www.gogremlins.com
SUMMARY:Mass (Grades 1-5) Hostetler
DESCRIPTION:Tuesday\, August 27\, 1-5 Mass\, Saint Monica. Color is WHITE. Readings: 2 Thes 2: 1-3a\, 14-17; Mt. 23: 23-26. 5th (Hostetler Leads)
URL:https://www.gogremlins.com/event/mass-grades-1-5/
CATEGORIES:Faith Life
END:VEVENT
END:VCALENDAR