BEGIN:VCALENDAR
VERSION:2.0
PRODID:-//Sacred Heart School - ECPv5.8.1//NONSGML v1.0//EN
CALSCALE:GREGORIAN
METHOD:PUBLISH
X-WR-CALNAME:Sacred Heart School
X-ORIGINAL-URL:https://www.gogremlins.com
X-WR-CALDESC:Events for Sacred Heart School
BEGIN:VTIMEZONE
TZID:America/Chicago
BEGIN:DAYLIGHT
TZOFFSETFROM:-0600
TZOFFSETTO:-0500
TZNAME:CDT
DTSTART:20240310T080000
END:DAYLIGHT
BEGIN:STANDARD
TZOFFSETFROM:-0500
TZOFFSETTO:-0600
TZNAME:CST
DTSTART:20241103T070000
END:STANDARD
END:VTIMEZONE
BEGIN:VEVENT
DTSTART;TZID=America/Chicago:20241112T083000
DTEND;TZID=America/Chicago:20241112T093000
DTSTAMP:20260423T153712
CREATED:20240625T224734Z
LAST-MODIFIED:20241111T220032Z
UID:95497-1731400200-1731403800@www.gogremlins.com
SUMMARY:Mass (Grades K-5) and Armor of God (2nd Grade) Jarvis
DESCRIPTION:Tuesday\, November 12\, K-5 Mass. Saint Josephat\, Bishop\, Martyr. Music appreciated. Color is RED.  Readings: Ti 2: 1-8\, 11-14; Lk 17: 1-6.  2nd Grade receive Armor of God\, Children’s Bible (close to St. Albert\, November 15.)  Include a petition for Vocations; it is Vocation Awareness Week. 4th (Jarvis Leads)
URL:https://www.gogremlins.com/event/mass-grades-1-5-7/
CATEGORIES:Faith Life
END:VEVENT
END:VCALENDAR