BEGIN:VCALENDAR
VERSION:2.0
PRODID:-//Sacred Heart School - ECPv5.8.1//NONSGML v1.0//EN
CALSCALE:GREGORIAN
METHOD:PUBLISH
X-WR-CALNAME:Sacred Heart School
X-ORIGINAL-URL:https://www.gogremlins.com
X-WR-CALDESC:Events for Sacred Heart School
BEGIN:VTIMEZONE
TZID:America/Chicago
BEGIN:DAYLIGHT
TZOFFSETFROM:-0600
TZOFFSETTO:-0500
TZNAME:CDT
DTSTART:20200308T080000
END:DAYLIGHT
BEGIN:STANDARD
TZOFFSETFROM:-0500
TZOFFSETTO:-0600
TZNAME:CST
DTSTART:20201101T070000
END:STANDARD
END:VTIMEZONE
BEGIN:VEVENT
DTSTART;TZID=America/Chicago:20200129T103000
DTEND;TZID=America/Chicago:20200129T123000
DTSTAMP:20260422T154127
CREATED:20200123T211359Z
LAST-MODIFIED:20200128T214115Z
UID:32554-1580293800-1580301000@www.gogremlins.com
SUMMARY:Lunch with our COMMUNITY Heroes
DESCRIPTION:Personal invitations are being sent to local community HEROES and they will be stopping by to have lunch with our Catholic School students during various lunch shifts. Thank you to our Community and those Heroes that can join us.  #CSW20
URL:https://www.gogremlins.com/event/lunch-with-our-community-heroes/
CATEGORIES:Main
END:VEVENT
END:VCALENDAR