BEGIN:VCALENDAR
VERSION:2.0
PRODID:-//Sacred Heart School - ECPv5.8.1//NONSGML v1.0//EN
CALSCALE:GREGORIAN
METHOD:PUBLISH
X-WR-CALNAME:Sacred Heart School
X-ORIGINAL-URL:https://www.gogremlins.com
X-WR-CALDESC:Events for Sacred Heart School
BEGIN:VTIMEZONE
TZID:America/Chicago
BEGIN:DAYLIGHT
TZOFFSETFROM:-0600
TZOFFSETTO:-0500
TZNAME:CDT
DTSTART:20210314T080000
END:DAYLIGHT
BEGIN:STANDARD
TZOFFSETFROM:-0500
TZOFFSETTO:-0600
TZNAME:CST
DTSTART:20211107T070000
END:STANDARD
END:VTIMEZONE
BEGIN:VEVENT
DTSTART;TZID=America/Chicago:20210326T150000
DTEND;TZID=America/Chicago:20210326T183000
DTSTAMP:20260425T144016
CREATED:20210219T110103Z
LAST-MODIFIED:20210326T181035Z
UID:51927-1616770800-1616783400@www.gogremlins.com
SUMMARY:Lenten Fish Fry
DESCRIPTION:Sedalia Knights of Columbus 2021 Lenten Fish FryMarch 12 and March 26 \nDrive-Through Service: 3-6:30pm \nMenu: \n\nDeep-Fried Fish\nBaked Fish\nBaked Beans\nCole Slaw\nFried Potato Chips/Wedges\nCornbread\n\nAdults $10 | Kids (ages 5-10) $5 | Children under 5 free with paid Adult \nCash and Checks Only \nNote: Honoring 2020 Fish Fry Tickets \nContact the office for tickets: 660-827-2311
URL:https://www.gogremlins.com/event/lenten-fish-fry-2/
LOCATION:Knights of Columbus\, 1708 Elm Hills Blvd\, Sedalia\, MO 65301\, USA\, 1201 Elm Hills Blvd\, United States
CATEGORIES:Faith Life
GEO:38.672073;-93.242438
X-APPLE-STRUCTURED-LOCATION;VALUE=URI;X-ADDRESS=Knights of Columbus 1708 Elm Hills Blvd Sedalia MO 65301 USA 1201 Elm Hills Blvd United States;X-APPLE-RADIUS=500;X-TITLE=1201 Elm Hills Blvd:geo:-93.242438,38.672073
END:VEVENT
END:VCALENDAR