BEGIN:VCALENDAR
VERSION:2.0
PRODID:-//Sacred Heart School - ECPv5.8.1//NONSGML v1.0//EN
CALSCALE:GREGORIAN
METHOD:PUBLISH
X-WR-CALNAME:Sacred Heart School
X-ORIGINAL-URL:https://www.gogremlins.com
X-WR-CALDESC:Events for Sacred Heart School
BEGIN:VTIMEZONE
TZID:America/Chicago
BEGIN:DAYLIGHT
TZOFFSETFROM:-0600
TZOFFSETTO:-0500
TZNAME:CDT
DTSTART:20190310T080000
END:DAYLIGHT
BEGIN:STANDARD
TZOFFSETFROM:-0500
TZOFFSETTO:-0600
TZNAME:CST
DTSTART:20191103T070000
END:STANDARD
END:VTIMEZONE
BEGIN:VEVENT
DTSTART;TZID=America/Chicago:20190306T150000
DTEND;TZID=America/Chicago:20190306T163000
DTSTAMP:20260421T223235
CREATED:20190108T153118Z
LAST-MODIFIED:20190128T152544Z
UID:20351-1551884400-1551889800@www.gogremlins.com
SUMMARY:Lego League
DESCRIPTION:
URL:https://www.gogremlins.com/event/lego-league-38/
CATEGORIES:Main
END:VEVENT
END:VCALENDAR