BEGIN:VCALENDAR
VERSION:2.0
PRODID:-//Sacred Heart School - ECPv5.8.1//NONSGML v1.0//EN
CALSCALE:GREGORIAN
METHOD:PUBLISH
X-WR-CALNAME:Sacred Heart School
X-ORIGINAL-URL:https://www.gogremlins.com
X-WR-CALDESC:Events for Sacred Heart School
BEGIN:VTIMEZONE
TZID:America/Chicago
BEGIN:DAYLIGHT
TZOFFSETFROM:-0600
TZOFFSETTO:-0500
TZNAME:CDT
DTSTART:20200308T080000
END:DAYLIGHT
BEGIN:STANDARD
TZOFFSETFROM:-0500
TZOFFSETTO:-0600
TZNAME:CST
DTSTART:20201101T070000
END:STANDARD
END:VTIMEZONE
BEGIN:VEVENT
DTSTART;TZID=America/Chicago:20200126T130000
DTEND;TZID=America/Chicago:20200126T150000
DTSTAMP:20260422T160142
CREATED:20200122T122459Z
LAST-MODIFIED:20200126T212349Z
UID:32451-1580043600-1580050800@www.gogremlins.com
SUMMARY:Knights of Columbus Free-Throw Contest
DESCRIPTION:All boys and girls ages 9 to 14 are invited to participate in the local level of competition for the 2020 Knights of Columbus Free Throw Championship.  Trophies are awarded in all 12 divisions (9-year-old boys through 14-year-old boys and 9-year-old girls through 14-year-old girls).  Age eligibility is determined by the age of the contestant as of January 1\, 2020. \nThis contest is free of charge and open to all area youth.  The local competition will be held on Sunday\, January 26  beginning at 1:00 p.m. in the Sacred Heart School gym.  Although this is a kick-off event to Catholic Schools Week 2020 at Sacred Heart Catholic School\, we would like to reiterate that all young people falling within these age categories are invited to participate regardless of the school they attend. \nThe K of C Free Throw Championships is sponsored annually with winners progressing through local\, district and state competition.  Participants are required to have parental consent.  For additional information contact Mark Register at 620-5043.
URL:https://www.gogremlins.com/event/knights-of-columbus-free-throw-contest/
CATEGORIES:Main
END:VEVENT
END:VCALENDAR