BEGIN:VCALENDAR
VERSION:2.0
PRODID:-//Sacred Heart School - ECPv5.8.1//NONSGML v1.0//EN
CALSCALE:GREGORIAN
METHOD:PUBLISH
X-WR-CALNAME:Sacred Heart School
X-ORIGINAL-URL:https://www.gogremlins.com
X-WR-CALDESC:Events for Sacred Heart School
BEGIN:VTIMEZONE
TZID:America/Chicago
BEGIN:DAYLIGHT
TZOFFSETFROM:-0600
TZOFFSETTO:-0500
TZNAME:CDT
DTSTART:20250309T080000
END:DAYLIGHT
BEGIN:STANDARD
TZOFFSETFROM:-0500
TZOFFSETTO:-0600
TZNAME:CST
DTSTART:20251102T070000
END:STANDARD
END:VTIMEZONE
BEGIN:VEVENT
DTSTART;TZID=America/Chicago:20250314T160000
DTEND;TZID=America/Chicago:20250314T193000
DTSTAMP:20260424T060956
CREATED:20241213T171648Z
LAST-MODIFIED:20250219T083636Z
UID:100947-1741968000-1741980600@www.gogremlins.com
SUMMARY:Knights of Columbus Fish Fry
DESCRIPTION:
URL:https://www.gogremlins.com/event/knights-of-columbus-fish-fry-7/
LOCATION:Knights of Columbus Hall
CATEGORIES:Faith Life
END:VEVENT
END:VCALENDAR