BEGIN:VCALENDAR
VERSION:2.0
PRODID:-//Sacred Heart School - ECPv5.8.1//NONSGML v1.0//EN
CALSCALE:GREGORIAN
METHOD:PUBLISH
X-WR-CALNAME:Sacred Heart School
X-ORIGINAL-URL:https://www.gogremlins.com
X-WR-CALDESC:Events for Sacred Heart School
BEGIN:VTIMEZONE
TZID:America/Chicago
BEGIN:DAYLIGHT
TZOFFSETFROM:-0600
TZOFFSETTO:-0500
TZNAME:CDT
DTSTART:20190310T080000
END:DAYLIGHT
BEGIN:STANDARD
TZOFFSETFROM:-0500
TZOFFSETTO:-0600
TZNAME:CST
DTSTART:20191103T070000
END:STANDARD
END:VTIMEZONE
BEGIN:VEVENT
DTSTART;TZID=America/Chicago:20191023T160000
DTEND;TZID=America/Chicago:20191023T190000
DTSTAMP:20260422T202740
CREATED:20191022T140921Z
LAST-MODIFIED:20191024T143037Z
UID:29667-1571846400-1571857200@www.gogremlins.com
SUMMARY:Knights of Columbus Family Buffet
DESCRIPTION:All you can eat Catfish with two meat or main dish options\, sides\, drink\, and dessert. \nAdults – $9\nChildren (6-12) – $5 \nKnights of Columbus Hall\n1708 Elm Hills Blvd.\nSedalia\, MO 65301
URL:https://www.gogremlins.com/event/knights-of-columbus-family-buffet/
LOCATION:Knights of Columbus\, 1708 Elm Hills Blvd\, Sedalia\, MO 65301\, USA\, 1201 Elm Hills Blvd\, United States
CATEGORIES:Main
GEO:38.672073;-93.242438
X-APPLE-STRUCTURED-LOCATION;VALUE=URI;X-ADDRESS=Knights of Columbus 1708 Elm Hills Blvd Sedalia MO 65301 USA 1201 Elm Hills Blvd United States;X-APPLE-RADIUS=500;X-TITLE=1201 Elm Hills Blvd:geo:-93.242438,38.672073
END:VEVENT
END:VCALENDAR