BEGIN:VCALENDAR
VERSION:2.0
PRODID:-//Sacred Heart School - ECPv5.8.1//NONSGML v1.0//EN
CALSCALE:GREGORIAN
METHOD:PUBLISH
X-WR-CALNAME:Sacred Heart School
X-ORIGINAL-URL:https://www.gogremlins.com
X-WR-CALDESC:Events for Sacred Heart School
BEGIN:VTIMEZONE
TZID:America/Chicago
BEGIN:DAYLIGHT
TZOFFSETFROM:-0600
TZOFFSETTO:-0500
TZNAME:CDT
DTSTART:20200308T080000
END:DAYLIGHT
BEGIN:STANDARD
TZOFFSETFROM:-0500
TZOFFSETTO:-0600
TZNAME:CST
DTSTART:20201101T070000
END:STANDARD
END:VTIMEZONE
BEGIN:VEVENT
DTSTART;VALUE=DATE:20200224
DTEND;VALUE=DATE:20200225
DTSTAMP:20260421T182700
CREATED:20191024T143008Z
LAST-MODIFIED:20200224T141359Z
UID:29783-1582502400-1582588799@www.gogremlins.com
SUMMARY:Kindergarten Invitations to enroll go out
DESCRIPTION:Mon. Feb 24\, 2020 Kindergarten Invitations to enroll go out \n\nKindergarten registration fees at the time of enrollment for existing K – 12 school families will remain $100 per student with no family to pay more than $250.  \nKindergarten registration fees for families NEW to the K-12 school will be $250 per student.  \nALL registration fees (non-refundable) are applied to 2020-2021 tuition.
URL:https://www.gogremlins.com/event/kindergarten-invitations-to-enroll-go-out/
CATEGORIES:Main
END:VEVENT
END:VCALENDAR