BEGIN:VCALENDAR
VERSION:2.0
PRODID:-//Sacred Heart School - ECPv5.8.1//NONSGML v1.0//EN
CALSCALE:GREGORIAN
METHOD:PUBLISH
X-WR-CALNAME:Sacred Heart School
X-ORIGINAL-URL:https://www.gogremlins.com
X-WR-CALDESC:Events for Sacred Heart School
BEGIN:VTIMEZONE
TZID:America/Chicago
BEGIN:DAYLIGHT
TZOFFSETFROM:-0600
TZOFFSETTO:-0500
TZNAME:CDT
DTSTART:20200308T080000
END:DAYLIGHT
BEGIN:STANDARD
TZOFFSETFROM:-0500
TZOFFSETTO:-0600
TZNAME:CST
DTSTART:20201101T070000
END:STANDARD
END:VTIMEZONE
BEGIN:VEVENT
DTSTART;TZID=America/Chicago:20200128T113000
DTEND;TZID=America/Chicago:20200128T123000
DTSTAMP:20260422T050914
CREATED:20200115T152650Z
LAST-MODIFIED:20200128T214113Z
UID:32272-1580211000-1580214600@www.gogremlins.com
SUMMARY:Kindergarten Service Project
DESCRIPTION:
URL:https://www.gogremlins.com/event/kindergarten-field-trip/
CATEGORIES:Main
END:VEVENT
END:VCALENDAR