BEGIN:VCALENDAR
VERSION:2.0
PRODID:-//Sacred Heart School - ECPv5.8.1//NONSGML v1.0//EN
CALSCALE:GREGORIAN
METHOD:PUBLISH
X-WR-CALNAME:Sacred Heart School
X-ORIGINAL-URL:https://www.gogremlins.com
X-WR-CALDESC:Events for Sacred Heart School
BEGIN:VTIMEZONE
TZID:America/Chicago
BEGIN:DAYLIGHT
TZOFFSETFROM:-0600
TZOFFSETTO:-0500
TZNAME:CDT
DTSTART:20190310T080000
END:DAYLIGHT
BEGIN:STANDARD
TZOFFSETFROM:-0500
TZOFFSETTO:-0600
TZNAME:CST
DTSTART:20191103T070000
END:STANDARD
END:VTIMEZONE
BEGIN:VEVENT
DTSTART;TZID=America/Chicago:20191119T151000
DTEND;TZID=America/Chicago:20191119T161000
DTSTAMP:20260422T051054
CREATED:20191114T170444Z
LAST-MODIFIED:20191119T163747Z
UID:30425-1574176200-1574179800@www.gogremlins.com
SUMMARY:Kid's Club Crafts and Choir (Grades 1-6)
DESCRIPTION:Kid’s Club Crafts with Mrs. Kehl\nKid’s Club Choir with Mrs. Dove
URL:https://www.gogremlins.com/event/kids-club-grades-1-6-2/
CATEGORIES:Main
END:VEVENT
END:VCALENDAR