BEGIN:VCALENDAR
VERSION:2.0
PRODID:-//Sacred Heart School - ECPv5.8.1//NONSGML v1.0//EN
CALSCALE:GREGORIAN
METHOD:PUBLISH
X-WR-CALNAME:Sacred Heart School
X-ORIGINAL-URL:https://www.gogremlins.com
X-WR-CALDESC:Events for Sacred Heart School
BEGIN:VTIMEZONE
TZID:America/Chicago
BEGIN:DAYLIGHT
TZOFFSETFROM:-0600
TZOFFSETTO:-0500
TZNAME:CDT
DTSTART:20200308T080000
END:DAYLIGHT
BEGIN:STANDARD
TZOFFSETFROM:-0500
TZOFFSETTO:-0600
TZNAME:CST
DTSTART:20201101T070000
END:STANDARD
END:VTIMEZONE
BEGIN:VEVENT
DTSTART;TZID=America/Chicago:20200126T080000
DTEND;TZID=America/Chicago:20200126T090000
DTSTAMP:20260422T222236
CREATED:20200123T211352Z
LAST-MODIFIED:20200126T212347Z
UID:32545-1580025600-1580029200@www.gogremlins.com
SUMMARY:Kid's Choir Performs @ 8 am Mass
DESCRIPTION:
URL:https://www.gogremlins.com/event/kids-choir-performs-8-am-mass/
LOCATION:Sacred Heart Church
CATEGORIES:Main
END:VEVENT
END:VCALENDAR