BEGIN:VCALENDAR
VERSION:2.0
PRODID:-//Sacred Heart School - ECPv5.8.1//NONSGML v1.0//EN
CALSCALE:GREGORIAN
METHOD:PUBLISH
X-WR-CALNAME:Sacred Heart School
X-ORIGINAL-URL:https://www.gogremlins.com
X-WR-CALDESC:Events for Sacred Heart School
BEGIN:VTIMEZONE
TZID:America/Chicago
BEGIN:DAYLIGHT
TZOFFSETFROM:-0600
TZOFFSETTO:-0500
TZNAME:CDT
DTSTART:20200308T080000
END:DAYLIGHT
BEGIN:STANDARD
TZOFFSETFROM:-0500
TZOFFSETTO:-0600
TZNAME:CST
DTSTART:20201101T070000
END:STANDARD
END:VTIMEZONE
BEGIN:VEVENT
DTSTART;TZID=America/Chicago:20200128T140000
DTEND;TZID=America/Chicago:20200128T210000
DTSTAMP:20260422T064752
CREATED:20190823T170237Z
LAST-MODIFIED:20200128T214114Z
UID:27778-1580220000-1580245200@www.gogremlins.com
SUMMARY:Kaysinger Speech Meet (Grades 9-12) @ SFCC
DESCRIPTION:
URL:https://www.gogremlins.com/event/kaysinger-speech-meet-grades-9-12-sfcc-2/
LOCATION:State Fair Community College\, 3201 W 16th St\, Sedalia\, MO 65301\, USA\, 101 W 16th St\, United States
CATEGORIES:Main
GEO:38.697485;-93.228661
X-APPLE-STRUCTURED-LOCATION;VALUE=URI;X-ADDRESS=State Fair Community College 3201 W 16th St Sedalia MO 65301 USA 101 W 16th St United States;X-APPLE-RADIUS=500;X-TITLE=101 W 16th St:geo:-93.228661,38.697485
END:VEVENT
END:VCALENDAR