BEGIN:VCALENDAR
VERSION:2.0
PRODID:-//Sacred Heart School - ECPv5.8.1//NONSGML v1.0//EN
CALSCALE:GREGORIAN
METHOD:PUBLISH
X-WR-CALNAME:Sacred Heart School
X-ORIGINAL-URL:https://www.gogremlins.com
X-WR-CALDESC:Events for Sacred Heart School
BEGIN:VTIMEZONE
TZID:America/Chicago
BEGIN:DAYLIGHT
TZOFFSETFROM:-0600
TZOFFSETTO:-0500
TZNAME:CDT
DTSTART:20200308T080000
END:DAYLIGHT
BEGIN:STANDARD
TZOFFSETFROM:-0500
TZOFFSETTO:-0600
TZNAME:CST
DTSTART:20201101T070000
END:STANDARD
END:VTIMEZONE
BEGIN:VEVENT
DTSTART;TZID=America/Chicago:20200220T173000
DTEND;TZID=America/Chicago:20200220T220000
DTSTAMP:20260421T091456
CREATED:20200108T202451Z
LAST-MODIFIED:20200220T205337Z
UID:32036-1582219800-1582236000@www.gogremlins.com
SUMMARY:Jv boys\, Varsity Girls\, then Varsity Boys at Green Ridge
DESCRIPTION:
URL:https://www.gogremlins.com/event/jv-boys-varsity-girls-then-varsity-boys-at-green-ridge/
CATEGORIES:HS Boys Basketball
END:VEVENT
END:VCALENDAR