BEGIN:VCALENDAR
VERSION:2.0
PRODID:-//Sacred Heart School - ECPv5.8.1//NONSGML v1.0//EN
CALSCALE:GREGORIAN
METHOD:PUBLISH
X-WR-CALNAME:Sacred Heart School
X-ORIGINAL-URL:https://www.gogremlins.com
X-WR-CALDESC:Events for Sacred Heart School
BEGIN:VTIMEZONE
TZID:America/Chicago
BEGIN:DAYLIGHT
TZOFFSETFROM:-0600
TZOFFSETTO:-0500
TZNAME:CDT
DTSTART:20200308T080000
END:DAYLIGHT
BEGIN:STANDARD
TZOFFSETFROM:-0500
TZOFFSETTO:-0600
TZNAME:CST
DTSTART:20201101T070000
END:STANDARD
END:VTIMEZONE
BEGIN:VEVENT
DTSTART;TZID=America/Chicago:20200124T173000
DTEND;TZID=America/Chicago:20200124T213000
DTSTAMP:20260423T100021
CREATED:20200108T202451Z
LAST-MODIFIED:20200125T210844Z
UID:32027-1579887000-1579901400@www.gogremlins.com
SUMMARY:POSTPONED TO SATURDAY! Varsity Girls Then Varsity Boys at La Monte Saturday at 1pm & 2:30).
DESCRIPTION:
URL:https://www.gogremlins.com/event/jv-boys-then-varsity-girls-then-varsity-boys-at-la-monte/
CATEGORIES:HS Boys Basketball
END:VEVENT
END:VCALENDAR