BEGIN:VCALENDAR
VERSION:2.0
PRODID:-//Sacred Heart School - ECPv5.8.1//NONSGML v1.0//EN
CALSCALE:GREGORIAN
METHOD:PUBLISH
X-WR-CALNAME:Sacred Heart School
X-ORIGINAL-URL:https://www.gogremlins.com
X-WR-CALDESC:Events for Sacred Heart School
BEGIN:VTIMEZONE
TZID:America/Chicago
BEGIN:DAYLIGHT
TZOFFSETFROM:-0600
TZOFFSETTO:-0500
TZNAME:CDT
DTSTART:20200308T080000
END:DAYLIGHT
BEGIN:STANDARD
TZOFFSETFROM:-0500
TZOFFSETTO:-0600
TZNAME:CST
DTSTART:20201101T070000
END:STANDARD
END:VTIMEZONE
BEGIN:VEVENT
DTSTART;TZID=America/Chicago:20200124T173000
DTEND;TZID=America/Chicago:20200124T213000
DTSTAMP:20260423T082644
CREATED:20200109T160902Z
LAST-MODIFIED:20200125T205347Z
UID:32048-1579887000-1579901400@www.gogremlins.com
SUMMARY:POSTPONED TO SATURDAY. 1PM: Varsity Girls Then 2:15: Varsity Boys
DESCRIPTION:
URL:https://www.gogremlins.com/event/jv-boys-then-varsity-girls-then-varsity-boys-at-la-monte-2/
CATEGORIES:HS Girls Basketball
END:VEVENT
END:VCALENDAR