BEGIN:VCALENDAR
VERSION:2.0
PRODID:-//Sacred Heart School - ECPv5.8.1//NONSGML v1.0//EN
CALSCALE:GREGORIAN
METHOD:PUBLISH
X-WR-CALNAME:Sacred Heart School
X-ORIGINAL-URL:https://www.gogremlins.com
X-WR-CALDESC:Events for Sacred Heart School
BEGIN:VTIMEZONE
TZID:America/Chicago
BEGIN:DAYLIGHT
TZOFFSETFROM:-0600
TZOFFSETTO:-0500
TZNAME:CDT
DTSTART:20210314T080000
END:DAYLIGHT
BEGIN:STANDARD
TZOFFSETFROM:-0500
TZOFFSETTO:-0600
TZNAME:CST
DTSTART:20211107T070000
END:STANDARD
END:VTIMEZONE
BEGIN:VEVENT
DTSTART;TZID=America/Chicago:20210316T074000
DTEND;TZID=America/Chicago:20210316T080000
DTSTAMP:20260421T044953
CREATED:20200810T190909Z
LAST-MODIFIED:20210315T174255Z
UID:42276-1615880400-1615881600@www.gogremlins.com
SUMMARY:Josten's Order Delivery - Seniors
DESCRIPTION:
URL:https://www.gogremlins.com/event/jostens-order-delivery-seniors/
LOCATION:SHS Commons
CATEGORIES:Main
END:VEVENT
END:VCALENDAR