BEGIN:VCALENDAR
VERSION:2.0
PRODID:-//Sacred Heart School - ECPv5.8.1//NONSGML v1.0//EN
CALSCALE:GREGORIAN
METHOD:PUBLISH
X-WR-CALNAME:Sacred Heart School
X-ORIGINAL-URL:https://www.gogremlins.com
X-WR-CALDESC:Events for Sacred Heart School
BEGIN:VTIMEZONE
TZID:America/Chicago
BEGIN:DAYLIGHT
TZOFFSETFROM:-0600
TZOFFSETTO:-0500
TZNAME:CDT
DTSTART:20200308T080000
END:DAYLIGHT
BEGIN:STANDARD
TZOFFSETFROM:-0500
TZOFFSETTO:-0600
TZNAME:CST
DTSTART:20201101T070000
END:STANDARD
END:VTIMEZONE
BEGIN:VEVENT
DTSTART;TZID=America/Chicago:20200930T170000
DTEND;TZID=America/Chicago:20200930T180000
DTSTAMP:20260424T121339
CREATED:20200929T164115Z
LAST-MODIFIED:20200930T165337Z
UID:45703-1601485200-1601488800@www.gogremlins.com
SUMMARY:JH VB home vs Sante Fe
DESCRIPTION:
URL:https://www.gogremlins.com/event/jh-vb-home-vs-sante-fe/
CATEGORIES:JH Volleyball
END:VEVENT
END:VCALENDAR