BEGIN:VCALENDAR
VERSION:2.0
PRODID:-//Sacred Heart School - ECPv5.8.1//NONSGML v1.0//EN
CALSCALE:GREGORIAN
METHOD:PUBLISH
X-WR-CALNAME:Sacred Heart School
X-ORIGINAL-URL:https://www.gogremlins.com
X-WR-CALDESC:Events for Sacred Heart School
BEGIN:VTIMEZONE
TZID:America/Chicago
BEGIN:DAYLIGHT
TZOFFSETFROM:-0600
TZOFFSETTO:-0500
TZNAME:CDT
DTSTART:20190310T080000
END:DAYLIGHT
BEGIN:STANDARD
TZOFFSETFROM:-0500
TZOFFSETTO:-0600
TZNAME:CST
DTSTART:20191103T070000
END:STANDARD
END:VTIMEZONE
BEGIN:VEVENT
DTSTART;TZID=America/Chicago:20190326T160000
DTEND;TZID=America/Chicago:20190326T200000
DTSTAMP:20260421T223711
CREATED:20190306T192401Z
LAST-MODIFIED:20190327T220922Z
UID:22589-1553616000-1553630400@www.gogremlins.com
SUMMARY:JH Track @ Windsor
DESCRIPTION:Field Events begin at 4:00 pm and Running Events begin at 4:30 PM
URL:https://www.gogremlins.com/event/jh-track-windsor-2/
CATEGORIES:JH Track
END:VEVENT
END:VCALENDAR