BEGIN:VCALENDAR
VERSION:2.0
PRODID:-//Sacred Heart School - ECPv5.8.1//NONSGML v1.0//EN
CALSCALE:GREGORIAN
METHOD:PUBLISH
X-WR-CALNAME:Sacred Heart School
X-ORIGINAL-URL:https://www.gogremlins.com
X-WR-CALDESC:Events for Sacred Heart School
BEGIN:VTIMEZONE
TZID:America/Chicago
BEGIN:DAYLIGHT
TZOFFSETFROM:-0600
TZOFFSETTO:-0500
TZNAME:CDT
DTSTART:20190310T080000
END:DAYLIGHT
BEGIN:STANDARD
TZOFFSETFROM:-0500
TZOFFSETTO:-0600
TZNAME:CST
DTSTART:20191103T070000
END:STANDARD
END:VTIMEZONE
BEGIN:VEVENT
DTSTART;TZID=America/Chicago:20190214T190000
DTEND;TZID=America/Chicago:20190214T200000
DTSTAMP:20260422T123315
CREATED:20190213T025612Z
LAST-MODIFIED:20190215T183939Z
UID:21853-1550170800-1550174400@www.gogremlins.com
SUMMARY:JH GBB Conference @ Stover vs LaMonte
DESCRIPTION:
URL:https://www.gogremlins.com/event/jh-gbb-conference-otterville-vs-stover/
LOCATION:Otterville High School\, 101 Georgetown St\, Otterville\, MO 65348\, USA\, 611 Georgetown St\, United States
CATEGORIES:JH Basketball
GEO:38.704425;-93.001041
X-APPLE-STRUCTURED-LOCATION;VALUE=URI;X-ADDRESS=Otterville High School 101 Georgetown St Otterville MO 65348 USA 611 Georgetown St United States;X-APPLE-RADIUS=500;X-TITLE=611 Georgetown St:geo:-93.001041,38.704425
END:VEVENT
END:VCALENDAR