BEGIN:VCALENDAR
VERSION:2.0
PRODID:-//Sacred Heart School - ECPv5.8.1//NONSGML v1.0//EN
CALSCALE:GREGORIAN
METHOD:PUBLISH
X-WR-CALNAME:Sacred Heart School
X-ORIGINAL-URL:https://www.gogremlins.com
X-WR-CALDESC:Events for Sacred Heart School
BEGIN:VTIMEZONE
TZID:America/Chicago
BEGIN:DAYLIGHT
TZOFFSETFROM:-0600
TZOFFSETTO:-0500
TZNAME:CDT
DTSTART:20210314T080000
END:DAYLIGHT
BEGIN:STANDARD
TZOFFSETFROM:-0500
TZOFFSETTO:-0600
TZNAME:CST
DTSTART:20211107T070000
END:STANDARD
END:VTIMEZONE
BEGIN:VEVENT
DTSTART;TZID=America/Chicago:20210201T173000
DTEND;TZID=America/Chicago:20210201T183000
DTSTAMP:20260424T211336
CREATED:20201006T180854Z
LAST-MODIFIED:20210201T184001Z
UID:46085-1612200600-1612204200@www.gogremlins.com
SUMMARY:(RESCHEDULED TO 2-2)JH Basketball Boys/Girls at home vs Tipton
DESCRIPTION:JH girls will play at 5:30 followed by Boys A then 2 quarters of Boys B. Tickets are required for entry and masks are required to be worn the entire time.
URL:https://www.gogremlins.com/event/jh-basketball-boys-girls-at-home-vs-tipton/
CATEGORIES:JH Basketball
END:VEVENT
END:VCALENDAR