BEGIN:VCALENDAR
VERSION:2.0
PRODID:-//Sacred Heart School - ECPv5.8.1//NONSGML v1.0//EN
CALSCALE:GREGORIAN
METHOD:PUBLISH
X-WR-CALNAME:Sacred Heart School
X-ORIGINAL-URL:https://www.gogremlins.com
X-WR-CALDESC:Events for Sacred Heart School
BEGIN:VTIMEZONE
TZID:America/Chicago
BEGIN:DAYLIGHT
TZOFFSETFROM:-0600
TZOFFSETTO:-0500
TZNAME:CDT
DTSTART:20200308T080000
END:DAYLIGHT
BEGIN:STANDARD
TZOFFSETFROM:-0500
TZOFFSETTO:-0600
TZNAME:CST
DTSTART:20201101T070000
END:STANDARD
END:VTIMEZONE
BEGIN:VEVENT
DTSTART;TZID=America/Chicago:20200125T080000
DTEND;TZID=America/Chicago:20200125T150000
DTSTAMP:20260423T053300
CREATED:20191010T142919Z
LAST-MODIFIED:20200125T212340Z
UID:29361-1579939200-1579964400@www.gogremlins.com
SUMMARY:Canceled - HS Math Contest @ Smith-Cotton
DESCRIPTION:
URL:https://www.gogremlins.com/event/hs-math-contest-smith-cotton/
LOCATION:Smith-Cotton High School\, 2010 Tiger Pride Blvd #8603\, Sedalia\, MO 65301\, USA\, 35400 School Rd\, United States
CATEGORIES:Main
GEO:38.548058;-93.099637
X-APPLE-STRUCTURED-LOCATION;VALUE=URI;X-ADDRESS=Smith-Cotton High School 2010 Tiger Pride Blvd #8603 Sedalia MO 65301 USA 35400 School Rd United States;X-APPLE-RADIUS=500;X-TITLE=35400 School Rd:geo:-93.099637,38.548058
END:VEVENT
END:VCALENDAR