BEGIN:VCALENDAR
VERSION:2.0
PRODID:-//Sacred Heart School - ECPv5.8.1//NONSGML v1.0//EN
CALSCALE:GREGORIAN
METHOD:PUBLISH
X-WR-CALNAME:Sacred Heart School
X-ORIGINAL-URL:https://www.gogremlins.com
X-WR-CALDESC:Events for Sacred Heart School
BEGIN:VTIMEZONE
TZID:America/Chicago
BEGIN:DAYLIGHT
TZOFFSETFROM:-0600
TZOFFSETTO:-0500
TZNAME:CDT
DTSTART:20190310T080000
END:DAYLIGHT
BEGIN:STANDARD
TZOFFSETFROM:-0500
TZOFFSETTO:-0600
TZNAME:CST
DTSTART:20191103T070000
END:STANDARD
END:VTIMEZONE
BEGIN:VEVENT
DTSTART;TZID=America/Chicago:20190411T090000
DTEND;TZID=America/Chicago:20190411T160000
DTSTAMP:20260422T200945
CREATED:20190109T154141Z
LAST-MODIFIED:20190411T235344Z
UID:20492-1554973200-1554998400@www.gogremlins.com
SUMMARY:HS Boys Golf Conference Tourn Varsity @ Triple Creek Golf Course\, Cole Camp
DESCRIPTION:
URL:https://www.gogremlins.com/event/hs-boys-golf-conference-tournament-varsity-triple-creek-golf-course-cole-camp/
CATEGORIES:HS Boys Golf
END:VEVENT
END:VCALENDAR