BEGIN:VCALENDAR
VERSION:2.0
PRODID:-//Sacred Heart School - ECPv5.8.1//NONSGML v1.0//EN
CALSCALE:GREGORIAN
METHOD:PUBLISH
X-WR-CALNAME:Sacred Heart School
X-ORIGINAL-URL:https://www.gogremlins.com
X-WR-CALDESC:Events for Sacred Heart School
BEGIN:VTIMEZONE
TZID:America/Chicago
BEGIN:DAYLIGHT
TZOFFSETFROM:-0600
TZOFFSETTO:-0500
TZNAME:CDT
DTSTART:20190310T080000
END:DAYLIGHT
BEGIN:STANDARD
TZOFFSETFROM:-0500
TZOFFSETTO:-0600
TZNAME:CST
DTSTART:20191103T070000
END:STANDARD
END:VTIMEZONE
BEGIN:VEVENT
DTSTART;TZID=America/Chicago:20190508T170000
DTEND;TZID=America/Chicago:20190508T200000
DTSTAMP:20260421T211919
CREATED:20190115T225538Z
LAST-MODIFIED:20190509T151150Z
UID:20807-1557334800-1557345600@www.gogremlins.com
SUMMARY:HS Baseball Otterville @ Home Liberty Park
DESCRIPTION:
URL:https://www.gogremlins.com/event/hs-baseball-otterville-home/
CATEGORIES:HS Baseball
END:VEVENT
END:VCALENDAR