BEGIN:VCALENDAR
VERSION:2.0
PRODID:-//Sacred Heart School - ECPv5.8.1//NONSGML v1.0//EN
CALSCALE:GREGORIAN
METHOD:PUBLISH
X-WR-CALNAME:Sacred Heart School
X-ORIGINAL-URL:https://www.gogremlins.com
X-WR-CALDESC:Events for Sacred Heart School
BEGIN:VTIMEZONE
TZID:America/Chicago
BEGIN:DAYLIGHT
TZOFFSETFROM:-0600
TZOFFSETTO:-0500
TZNAME:CDT
DTSTART:20230312T080000
END:DAYLIGHT
BEGIN:STANDARD
TZOFFSETFROM:-0500
TZOFFSETTO:-0600
TZNAME:CST
DTSTART:20231105T070000
END:STANDARD
END:VTIMEZONE
BEGIN:VEVENT
DTSTART;TZID=America/Chicago:20230412T160000
DTEND;TZID=America/Chicago:20230412T200000
DTSTAMP:20260421T043745
CREATED:20230411T101002Z
LAST-MODIFIED:20230412T100920Z
UID:81137-1681315200-1681329600@www.gogremlins.com
SUMMARY:High School Track @ Skyline
DESCRIPTION:
URL:https://www.gogremlins.com/event/high-school-track-skyline/
LOCATION:Skyline High School\n20663 US-65\, Urbana\, MO 65767\, United States
CATEGORIES:HS Track
END:VEVENT
END:VCALENDAR