BEGIN:VCALENDAR
VERSION:2.0
PRODID:-//Sacred Heart School - ECPv5.8.1//NONSGML v1.0//EN
CALSCALE:GREGORIAN
METHOD:PUBLISH
X-WR-CALNAME:Sacred Heart School
X-ORIGINAL-URL:https://www.gogremlins.com
X-WR-CALDESC:Events for Sacred Heart School
BEGIN:VTIMEZONE
TZID:America/Chicago
BEGIN:DAYLIGHT
TZOFFSETFROM:-0600
TZOFFSETTO:-0500
TZNAME:CDT
DTSTART:20200308T080000
END:DAYLIGHT
BEGIN:STANDARD
TZOFFSETFROM:-0500
TZOFFSETTO:-0600
TZNAME:CST
DTSTART:20201101T070000
END:STANDARD
END:VTIMEZONE
BEGIN:VEVENT
DTSTART;TZID=America/Chicago:20200127T103000
DTEND;TZID=America/Chicago:20200127T123000
DTSTAMP:20260422T112608
CREATED:20200123T211355Z
LAST-MODIFIED:20200127T212601Z
UID:32546-1580121000-1580128200@www.gogremlins.com
SUMMARY:Friends & Family Lunch Day (K-5)
DESCRIPTION:Family & Friends are invited to dine with your K-5 students during their lunch shift.  Bring a sack lunch and enjoy the company of your Catholic School student.  #CSW20
URL:https://www.gogremlins.com/event/friends-family-lunch-day-k-5/
CATEGORIES:Main
END:VEVENT
END:VCALENDAR