BEGIN:VCALENDAR
VERSION:2.0
PRODID:-//Sacred Heart School - ECPv5.8.1//NONSGML v1.0//EN
CALSCALE:GREGORIAN
METHOD:PUBLISH
X-WR-CALNAME:Sacred Heart School
X-ORIGINAL-URL:https://www.gogremlins.com
X-WR-CALDESC:Events for Sacred Heart School
BEGIN:VTIMEZONE
TZID:America/Chicago
BEGIN:DAYLIGHT
TZOFFSETFROM:-0600
TZOFFSETTO:-0500
TZNAME:CDT
DTSTART:20210314T080000
END:DAYLIGHT
BEGIN:STANDARD
TZOFFSETFROM:-0500
TZOFFSETTO:-0600
TZNAME:CST
DTSTART:20211107T070000
END:STANDARD
END:VTIMEZONE
BEGIN:VEVENT
DTSTART;TZID=America/Chicago:20210131T130000
DTEND;TZID=America/Chicago:20210131T150000
DTSTAMP:20260424T140353
CREATED:20210120T194002Z
LAST-MODIFIED:20210130T205423Z
UID:50503-1612098000-1612105200@www.gogremlins.com
SUMMARY:Free Throw Contest (Ages 9-14)
DESCRIPTION:Knights of Columbus Council #831 to Sponsor Free Throw Contest \nAll boys and girls ages 9 to 14 are invited to participate in the local level of competition for the 2021 Knights of Columbus Free Throw Championship.  Trophies are awarded in all 12 divisions (9-year-old boys through 14-year-old boys and 9-year-old girls through 14-year-old girls).  Age eligibility is determined by the age of the contestant as of January 1st\, 2020.  \n This contest is free of charge and open to all area youth.  The local competition will be held on Sunday\, January 31st beginning at 1:00 PM in the Sacred Heart School gym.  Although this is a kick-off event to Catholic Schools Week 2021 at Sacred Heart Catholic School\, we would like to reiterate that all young people falling within these age categories are invited to participate regardless of the school they attend.   \nThe K of C Free Throw Championships is sponsored annually with winners progressing through local\, district\, and state competition.  Participants are required to have proof of age and parental consent.  For additional information contact Mark Register at 620-5043.
URL:https://www.gogremlins.com/event/free-throw-contest-ages-9-14/
CATEGORIES:Main
END:VEVENT
END:VCALENDAR