BEGIN:VCALENDAR
VERSION:2.0
PRODID:-//Sacred Heart School - ECPv5.8.1//NONSGML v1.0//EN
CALSCALE:GREGORIAN
METHOD:PUBLISH
X-WR-CALNAME:Sacred Heart School
X-ORIGINAL-URL:https://www.gogremlins.com
X-WR-CALDESC:Events for Sacred Heart School
BEGIN:VTIMEZONE
TZID:America/Chicago
BEGIN:DAYLIGHT
TZOFFSETFROM:-0600
TZOFFSETTO:-0500
TZNAME:CDT
DTSTART:20190310T080000
END:DAYLIGHT
BEGIN:STANDARD
TZOFFSETFROM:-0500
TZOFFSETTO:-0600
TZNAME:CST
DTSTART:20191103T070000
END:STANDARD
END:VTIMEZONE
BEGIN:VEVENT
DTSTART;TZID=America/Chicago:20191114T180000
DTEND;TZID=America/Chicago:20191114T200000
DTSTAMP:20260422T141404
CREATED:20190806T182549Z
LAST-MODIFIED:20191115T151002Z
UID:26816-1573754400-1573761600@www.gogremlins.com
SUMMARY:First Reconciliation Parents Meeting
DESCRIPTION:First Reconciliation Parents meeting\, November 14\, 2019 from 6-8 pm.
URL:https://www.gogremlins.com/event/first-reconciliation-parents-meeting-2/
CATEGORIES:Faith Life,Main
END:VEVENT
END:VCALENDAR