BEGIN:VCALENDAR
VERSION:2.0
PRODID:-//Sacred Heart School - ECPv5.8.1//NONSGML v1.0//EN
CALSCALE:GREGORIAN
METHOD:PUBLISH
X-WR-CALNAME:Sacred Heart School
X-ORIGINAL-URL:https://www.gogremlins.com
X-WR-CALDESC:Events for Sacred Heart School
BEGIN:VTIMEZONE
TZID:America/Chicago
BEGIN:DAYLIGHT
TZOFFSETFROM:-0600
TZOFFSETTO:-0500
TZNAME:CDT
DTSTART:20190310T080000
END:DAYLIGHT
BEGIN:STANDARD
TZOFFSETFROM:-0500
TZOFFSETTO:-0600
TZNAME:CST
DTSTART:20191103T070000
END:STANDARD
END:VTIMEZONE
BEGIN:VEVENT
DTSTART;TZID=America/Chicago:20190504T173000
DTEND;TZID=America/Chicago:20190504T183000
DTSTAMP:20260421T121629
CREATED:20181005T172738Z
LAST-MODIFIED:20190504T182513Z
UID:16447-1556991000-1556994600@www.gogremlins.com
SUMMARY:First Communion for 2nd Graders
DESCRIPTION:
URL:https://www.gogremlins.com/event/first-reconciliation-for-2nd-graders-2/
LOCATION:Sacred Heart Church
CATEGORIES:Main
END:VEVENT
END:VCALENDAR