BEGIN:VCALENDAR
VERSION:2.0
PRODID:-//Sacred Heart School - ECPv5.8.1//NONSGML v1.0//EN
CALSCALE:GREGORIAN
METHOD:PUBLISH
X-WR-CALNAME:Sacred Heart School
X-ORIGINAL-URL:https://www.gogremlins.com
X-WR-CALDESC:Events for Sacred Heart School
BEGIN:VTIMEZONE
TZID:America/Chicago
BEGIN:DAYLIGHT
TZOFFSETFROM:-0600
TZOFFSETTO:-0500
TZNAME:CDT
DTSTART:20250309T080000
END:DAYLIGHT
BEGIN:STANDARD
TZOFFSETFROM:-0500
TZOFFSETTO:-0600
TZNAME:CST
DTSTART:20251102T070000
END:STANDARD
END:VTIMEZONE
BEGIN:VEVENT
DTSTART;TZID=America/Chicago:20250123T091500
DTEND;TZID=America/Chicago:20250123T144500
DTSTAMP:20260423T073427
CREATED:20241216T174552Z
LAST-MODIFIED:20250123T130037Z
UID:101076-1737623700-1737643500@www.gogremlins.com
SUMMARY:Field Trip: (Grades 9-12 Student Council)
DESCRIPTION:
URL:https://www.gogremlins.com/event/field-trip-grades-9-12-student-council/
LOCATION:TBD
CATEGORIES:Main
END:VEVENT
END:VCALENDAR