BEGIN:VCALENDAR
VERSION:2.0
PRODID:-//Sacred Heart School - ECPv5.8.1//NONSGML v1.0//EN
CALSCALE:GREGORIAN
METHOD:PUBLISH
X-WR-CALNAME:Sacred Heart School
X-ORIGINAL-URL:https://www.gogremlins.com
X-WR-CALDESC:Events for Sacred Heart School
BEGIN:VTIMEZONE
TZID:America/Chicago
BEGIN:DAYLIGHT
TZOFFSETFROM:-0600
TZOFFSETTO:-0500
TZNAME:CDT
DTSTART:20200308T080000
END:DAYLIGHT
BEGIN:STANDARD
TZOFFSETFROM:-0500
TZOFFSETTO:-0600
TZNAME:CST
DTSTART:20201101T070000
END:STANDARD
END:VTIMEZONE
BEGIN:VEVENT
DTSTART;TZID=America/Chicago:20200827T150000
DTEND;TZID=America/Chicago:20200827T160000
DTSTAMP:20260424T203732
CREATED:20200709T163931Z
LAST-MODIFIED:20200827T152727Z
UID:41546-1598540400-1598544000@www.gogremlins.com
SUMMARY:Fall Sports Pictures
DESCRIPTION:
URL:https://www.gogremlins.com/event/fall-sports-pictures-2/
LOCATION:McGremlin Gym
CATEGORIES:Main
END:VEVENT
END:VCALENDAR