BEGIN:VCALENDAR
VERSION:2.0
PRODID:-//Sacred Heart School - ECPv5.8.1//NONSGML v1.0//EN
CALSCALE:GREGORIAN
METHOD:PUBLISH
X-WR-CALNAME:Sacred Heart School
X-ORIGINAL-URL:https://www.gogremlins.com
X-WR-CALDESC:Events for Sacred Heart School
BEGIN:VTIMEZONE
TZID:America/Chicago
BEGIN:DAYLIGHT
TZOFFSETFROM:-0600
TZOFFSETTO:-0500
TZNAME:CDT
DTSTART:20250309T080000
END:DAYLIGHT
BEGIN:STANDARD
TZOFFSETFROM:-0500
TZOFFSETTO:-0600
TZNAME:CST
DTSTART:20251102T070000
END:STANDARD
END:VTIMEZONE
BEGIN:VEVENT
DTSTART;VALUE=DATE:20250312
DTEND;VALUE=DATE:20250313
DTSTAMP:20260422T232333
CREATED:20250227T082038Z
LAST-MODIFIED:20250312T210421Z
UID:102977-1741737600-1741823999@www.gogremlins.com
SUMMARY:Enrollment Deadline (Returning Students)
DESCRIPTION:DUE BY Wednesday\, March 12\, 2025 \n\n\nTo secure your spot and any scholarships and tuition assistance. \n\n\nRe-enroll – Go to FACTS Family Portal through your existing login.      \n\n\n\n\nClick Apply/Enroll \n\n\nClick Enrollment/Re-enrollment \n\n\nYou will be asked to update your information\, view your tuition agreement\, provide payment plan information\, submit a non-refundable $125 registration fee per student\, and sign your enrollment contract online.  \n\n\nIf you would like to meet in person\, please schedule an appointment. This meeting will be with Mrs. Howell\, President\, and Mrs. Dillon\, Registrar.  \n\n\n\n\nSecure scholarships and tuition assistance – All of the above steps must be finalized by March 12 to secure your student’s spot and any grant and aid.  \n\n\nNeed more help? Just call Mrs. Dillon in the school office at 660-827-3800.
URL:https://www.gogremlins.com/event/enrollment-deadline-returning-students/
CATEGORIES:Main
END:VEVENT
END:VCALENDAR