BEGIN:VCALENDAR
VERSION:2.0
PRODID:-//Sacred Heart School - ECPv5.8.1//NONSGML v1.0//EN
CALSCALE:GREGORIAN
METHOD:PUBLISH
X-WR-CALNAME:Sacred Heart School
X-ORIGINAL-URL:https://www.gogremlins.com
X-WR-CALDESC:Events for Sacred Heart School
BEGIN:VTIMEZONE
TZID:America/Chicago
BEGIN:DAYLIGHT
TZOFFSETFROM:-0600
TZOFFSETTO:-0500
TZNAME:CDT
DTSTART:20240310T080000
END:DAYLIGHT
BEGIN:STANDARD
TZOFFSETFROM:-0500
TZOFFSETTO:-0600
TZNAME:CST
DTSTART:20241103T070000
END:STANDARD
END:VTIMEZONE
BEGIN:VEVENT
DTSTART;VALUE=DATE:20240418
DTEND;VALUE=DATE:20240419
DTSTAMP:20260422T081124
CREATED:20240308T230007Z
LAST-MODIFIED:20240418T143005Z
UID:92254-1713398400-1713484799@www.gogremlins.com
SUMMARY:Enrollment Contracts Due
DESCRIPTION:The enrollment contract for returning students and registration fee are due in no later than Thursday\, April 11\, 2024\, to accept your student’s spot to return to Sacred Heart School.
URL:https://www.gogremlins.com/event/enrollment-contracts-due/
CATEGORIES:Main
END:VEVENT
END:VCALENDAR