BEGIN:VCALENDAR
VERSION:2.0
PRODID:-//Sacred Heart School - ECPv5.8.1//NONSGML v1.0//EN
CALSCALE:GREGORIAN
METHOD:PUBLISH
X-WR-CALNAME:Sacred Heart School
X-ORIGINAL-URL:https://www.gogremlins.com
X-WR-CALDESC:Events for Sacred Heart School
BEGIN:VTIMEZONE
TZID:America/Chicago
BEGIN:DAYLIGHT
TZOFFSETFROM:-0600
TZOFFSETTO:-0500
TZNAME:CDT
DTSTART:20260308T080000
END:DAYLIGHT
BEGIN:STANDARD
TZOFFSETFROM:-0500
TZOFFSETTO:-0600
TZNAME:CST
DTSTART:20261101T070000
END:STANDARD
END:VTIMEZONE
BEGIN:VEVENT
DTSTART;TZID=America/Chicago:20260519T100000
DTEND;TZID=America/Chicago:20260519T120000
DTSTAMP:20260421T194514
CREATED:20260212T164044Z
LAST-MODIFIED:20260421T232521Z
UID:115165-1779184800-1779192000@www.gogremlins.com
SUMMARY:Elementary Field Day (Grades PK-5)
DESCRIPTION:
URL:https://www.gogremlins.com/event/elementary-field-day-grades-pk-5/
CATEGORIES:Main
END:VEVENT
END:VCALENDAR