BEGIN:VCALENDAR
VERSION:2.0
PRODID:-//Sacred Heart School - ECPv5.8.1//NONSGML v1.0//EN
CALSCALE:GREGORIAN
METHOD:PUBLISH
X-WR-CALNAME:Sacred Heart School
X-ORIGINAL-URL:https://www.gogremlins.com
X-WR-CALDESC:Events for Sacred Heart School
BEGIN:VTIMEZONE
TZID:America/Chicago
BEGIN:DAYLIGHT
TZOFFSETFROM:-0600
TZOFFSETTO:-0500
TZNAME:CDT
DTSTART:20190310T080000
END:DAYLIGHT
BEGIN:STANDARD
TZOFFSETFROM:-0500
TZOFFSETTO:-0600
TZNAME:CST
DTSTART:20191103T070000
END:STANDARD
END:VTIMEZONE
BEGIN:VEVENT
DTSTART;TZID=America/Chicago:20190215T130000
DTEND;TZID=America/Chicago:20190215T132500
DTSTAMP:20260422T064703
CREATED:20190215T120141Z
LAST-MODIFIED:20190215T120443Z
UID:21989-1550235600-1550237100@www.gogremlins.com
SUMMARY:Early Out at 1pm - Due to Weather
DESCRIPTION:School is in-session today but there will be a 1pm dismissal due to the forecasted weather headed our way.
URL:https://www.gogremlins.com/event/early-out-at-1pm-due-to-weather/
CATEGORIES:Main
END:VEVENT
END:VCALENDAR