BEGIN:VCALENDAR
VERSION:2.0
PRODID:-//Sacred Heart School - ECPv5.8.1//NONSGML v1.0//EN
CALSCALE:GREGORIAN
METHOD:PUBLISH
X-WR-CALNAME:Sacred Heart School
X-ORIGINAL-URL:https://www.gogremlins.com
X-WR-CALDESC:Events for Sacred Heart School
BEGIN:VTIMEZONE
TZID:America/Chicago
BEGIN:DAYLIGHT
TZOFFSETFROM:-0600
TZOFFSETTO:-0500
TZNAME:CDT
DTSTART:20240310T080000
END:DAYLIGHT
BEGIN:STANDARD
TZOFFSETFROM:-0500
TZOFFSETTO:-0600
TZNAME:CST
DTSTART:20241103T070000
END:STANDARD
END:VTIMEZONE
BEGIN:VEVENT
DTSTART;TZID=America/Chicago:20240523T150000
DTEND;TZID=America/Chicago:20240523T150000
DTSTAMP:20260424T040547
CREATED:20240523T181438Z
LAST-MODIFIED:20240523T181438Z
UID:94246-1716476400-1716476400@www.gogremlins.com
SUMMARY:Due: Final Four Baseball Tshirt order
DESCRIPTION:Final Four T-Shirt Orders. Order your shirt by 3pm on Thursday\, May 24.\nhttps://forms.gle/LPZVbeWq7wehqeGY6\nGo Grems!
URL:https://www.gogremlins.com/event/due-final-four-baseball-tshirt-order/
CATEGORIES:Main
END:VEVENT
END:VCALENDAR