BEGIN:VCALENDAR
VERSION:2.0
PRODID:-//Sacred Heart School - ECPv5.8.1//NONSGML v1.0//EN
CALSCALE:GREGORIAN
METHOD:PUBLISH
X-WR-CALNAME:Sacred Heart School
X-ORIGINAL-URL:https://www.gogremlins.com
X-WR-CALDESC:Events for Sacred Heart School
BEGIN:VTIMEZONE
TZID:America/Chicago
BEGIN:DAYLIGHT
TZOFFSETFROM:-0600
TZOFFSETTO:-0500
TZNAME:CDT
DTSTART:20210314T080000
END:DAYLIGHT
BEGIN:STANDARD
TZOFFSETFROM:-0500
TZOFFSETTO:-0600
TZNAME:CST
DTSTART:20211107T070000
END:STANDARD
END:VTIMEZONE
BEGIN:VEVENT
DTSTART;TZID=America/Chicago:20210203T080000
DTEND;TZID=America/Chicago:20210203T085000
DTSTAMP:20260424T105007
CREATED:20210127T165609Z
LAST-MODIFIED:20210203T135437Z
UID:50764-1612339200-1612342200@www.gogremlins.com
SUMMARY:Donut day! - PreK -12
DESCRIPTION:Donut day! – PreK -12 students will receive donuts and juice in their first-hour class compliments of the Active Parents Club
URL:https://www.gogremlins.com/event/donut-day-prek-12-students-will-receive-donuts-and-juice-in-their-first-hour-class-compliments-of-the-active-parents-club/
CATEGORIES:Main
END:VEVENT
END:VCALENDAR