BEGIN:VCALENDAR
VERSION:2.0
PRODID:-//Sacred Heart School - ECPv5.8.1//NONSGML v1.0//EN
CALSCALE:GREGORIAN
METHOD:PUBLISH
X-WR-CALNAME:Sacred Heart School
X-ORIGINAL-URL:https://www.gogremlins.com
X-WR-CALDESC:Events for Sacred Heart School
BEGIN:VTIMEZONE
TZID:America/Chicago
BEGIN:DAYLIGHT
TZOFFSETFROM:-0600
TZOFFSETTO:-0500
TZNAME:CDT
DTSTART:20210314T080000
END:DAYLIGHT
BEGIN:STANDARD
TZOFFSETFROM:-0500
TZOFFSETTO:-0600
TZNAME:CST
DTSTART:20211107T070000
END:STANDARD
END:VTIMEZONE
BEGIN:VEVENT
DTSTART;TZID=America/Chicago:20210303T140000
DTEND;TZID=America/Chicago:20210303T150000
DTSTAMP:20260424T045553
CREATED:20210105T112511Z
LAST-MODIFIED:20210302T221433Z
UID:49903-1614780000-1614783600@www.gogremlins.com
SUMMARY:Discipleship Armor (2nd Grade)
DESCRIPTION:Having learned about the Sacrament of Reconciliation and now learningabout the Sacrament of the Eucharist\, it is important that they have the Wordof God given to them in a way that is understandable to them. Thus\, our secondgraders will be receiving a Children’s Bible to grow deeper in their relationshipswith Jesus Christ. Parents of Second grade students are invited to this prayerservice at SH Chapel.
URL:https://www.gogremlins.com/event/discipleship-armor-2nd-grade/
CATEGORIES:Faith Life
END:VEVENT
END:VCALENDAR