BEGIN:VCALENDAR
VERSION:2.0
PRODID:-//Sacred Heart School - ECPv5.8.1//NONSGML v1.0//EN
CALSCALE:GREGORIAN
METHOD:PUBLISH
X-WR-CALNAME:Sacred Heart School
X-ORIGINAL-URL:https://www.gogremlins.com
X-WR-CALDESC:Events for Sacred Heart School
BEGIN:VTIMEZONE
TZID:America/Chicago
BEGIN:DAYLIGHT
TZOFFSETFROM:-0600
TZOFFSETTO:-0500
TZNAME:CDT
DTSTART:20190310T080000
END:DAYLIGHT
BEGIN:STANDARD
TZOFFSETFROM:-0500
TZOFFSETTO:-0600
TZNAME:CST
DTSTART:20191103T070000
END:STANDARD
END:VTIMEZONE
BEGIN:VEVENT
DTSTART;TZID=America/Chicago:20191026T080000
DTEND;TZID=America/Chicago:20191026T160000
DTSTAMP:20260422T015509
CREATED:20190827T173907Z
LAST-MODIFIED:20191026T145417Z
UID:27927-1572076800-1572105600@www.gogremlins.com
SUMMARY:Devon's Beat Heart Screenings
DESCRIPTION:
URL:https://www.gogremlins.com/event/devons-beat-heart-screenings/
LOCATION:Main Gym
CATEGORIES:Main
END:VEVENT
END:VCALENDAR