BEGIN:VCALENDAR
VERSION:2.0
PRODID:-//Sacred Heart School - ECPv5.8.1//NONSGML v1.0//EN
CALSCALE:GREGORIAN
METHOD:PUBLISH
X-WR-CALNAME:Sacred Heart School
X-ORIGINAL-URL:https://www.gogremlins.com
X-WR-CALDESC:Events for Sacred Heart School
BEGIN:VTIMEZONE
TZID:America/Chicago
BEGIN:DAYLIGHT
TZOFFSETFROM:-0600
TZOFFSETTO:-0500
TZNAME:CDT
DTSTART:20190310T080000
END:DAYLIGHT
BEGIN:STANDARD
TZOFFSETFROM:-0500
TZOFFSETTO:-0600
TZNAME:CST
DTSTART:20191103T070000
END:STANDARD
END:VTIMEZONE
BEGIN:VEVENT
DTSTART;VALUE=DATE:20190312
DTEND;VALUE=DATE:20190313
DTSTAMP:20260422T013559
CREATED:20180831T185718Z
LAST-MODIFIED:20190312T161132Z
UID:14841-1552348800-1552435199@www.gogremlins.com
SUMMARY:Conference Science Fair (SFCC)
DESCRIPTION:
URL:https://www.gogremlins.com/event/conference-science-fair-sfcc/
CATEGORIES:Main
ORGANIZER;CN="Sacred%20Heart%20School%20Calendar":MAILTO:gogremlins.com_a3j4m3njtec9e6sauf99rsoo00@group.calendar.google.com
END:VEVENT
END:VCALENDAR