BEGIN:VCALENDAR
VERSION:2.0
PRODID:-//Sacred Heart School - ECPv5.8.1//NONSGML v1.0//EN
CALSCALE:GREGORIAN
METHOD:PUBLISH
X-WR-CALNAME:Sacred Heart School
X-ORIGINAL-URL:https://www.gogremlins.com
X-WR-CALDESC:Events for Sacred Heart School
BEGIN:VTIMEZONE
TZID:America/Chicago
BEGIN:DAYLIGHT
TZOFFSETFROM:-0600
TZOFFSETTO:-0500
TZNAME:CDT
DTSTART:20200308T080000
END:DAYLIGHT
BEGIN:STANDARD
TZOFFSETFROM:-0500
TZOFFSETTO:-0600
TZNAME:CST
DTSTART:20201101T070000
END:STANDARD
END:VTIMEZONE
BEGIN:VEVENT
DTSTART;TZID=America/Chicago:20200125T090000
DTEND;TZID=America/Chicago:20200125T150000
DTSTAMP:20260423T041811
CREATED:20200123T211637Z
LAST-MODIFIED:20200125T210839Z
UID:32564-1579942800-1579964400@www.gogremlins.com
SUMMARY:Boys vs Tipton Girls vs Tipton 10am boys vs Stover 1pm\, Girls vs Stover 2pm
DESCRIPTION:Saturday1/25/19 \n9am           S. Heart boys               vs               Tiptonboys  \n10am         S. Heart girls                vs               Tipton girls  \n11am         Northwestboys           vs               Stover boys         \nNoon         Northwestgirls             vs               Stover girls          \n1pm           Tiptonboys                  vs               Northwest boys   \n2pm           Tiptongirls                   vs               Northwest girls \n3pm           S. Heart boys               vs               Stoverboys       \n4pm           S. Heart girls                vs               Stover girls         
URL:https://www.gogremlins.com/event/boys-vs-tipton-girls-vs-tipton-10am-boys-vs-stover-1pm-girls-vs-stover-2pm/
CATEGORIES:JH Basketball
END:VEVENT
END:VCALENDAR